BEGIN:VCALENDAR
VERSION:2.0
PRODID:-//wp-events-plugin.com//7.2.3.1//EN
TZID:America/Vancouver
X-WR-TIMEZONE:America/Vancouver
BEGIN:VEVENT
UID:674@vzhl35npbcb.c.updraftclone.com
DTSTART;TZID=America/Vancouver:20290717T190000
DTEND;TZID=America/Vancouver:20290717T210000
DTSTAMP:20250803T030257Z
URL:https://vzhl35npbcb.c.updraftclone.com/events/baronial-council-curia-2
 024-04-16-2024-05-21-2024-06-18-2024-07-16-2024-08-20-2024-09-17-2024-10-1
 5-2024-11-19-2024-12-17-2025-01-21-2025-02-18-2025-03-18-2025-04-15-2025-0
 5-20-2025-06-1-19-2029-07-17/
SUMMARY:Baronial Council (Curia)
DESCRIPTION:Meetings held virtually via Zoom. Link will be made available o
 n Facebook or Discord on the day of the meeting.
ATTACH;FMTTYPE=image/jpeg:https://vzhl35npbcb.c.updraftclone.com/wp-conten
 t/uploads/2024/05/TheGloriousTaleOfBayeux.png
CATEGORIES:Seagirt Event
END:VEVENT
BEGIN:VTIMEZONE
TZID:America/Vancouver
X-LIC-LOCATION:America/Vancouver
BEGIN:DAYLIGHT
DTSTART:20290311T030000
TZOFFSETFROM:-0800
TZOFFSETTO:-0700
TZNAME:PDT
END:DAYLIGHT
END:VTIMEZONE
END:VCALENDAR