BEGIN:VCALENDAR
VERSION:2.0
PRODID:-//wp-events-plugin.com//7.2.3.1//EN
TZID:America/Vancouver
X-WR-TIMEZONE:America/Vancouver
BEGIN:VEVENT
UID:261@vzhl35npbcb.c.updraftclone.com
DTSTART;TZID=America/Vancouver:20260610T180000
DTEND;TZID=America/Vancouver:20260610T210000
DTSTAMP:20250917T024716Z
URL:https://vzhl35npbcb.c.updraftclone.com/events/armoured-combat-rapier-c
 ut-thrust-practice-2026-06-10/
SUMMARY:Armoured Combat\, Rapier\, Cut & Thrust Practice
DESCRIPTION:Weather permitting\, the following practices will be held simul
 taneously every Wednesday:\n\n 	\n\n 	Armoured Combat (heavy)\n 	Rapier Co
 mbat (fencing)\n 	Cut &amp\; Thrust combat (alternative form of fencing)\n
 \n\n\nFor more information\, contact our Branch Marshal. Loaner gear will 
 be provided. 6:00 PM setup\, 6:30 PM start
ATTACH;FMTTYPE=image/jpeg:https://vzhl35npbcb.c.updraftclone.com/wp-conten
 t/uploads/2018/11/KnightChicken.png
CATEGORIES:Seagirt Event
LOCATION:Rudd Park\, 3366 Whittier Ave\, Victoria\, BC\, V8Z 3P9\, Burnside
  Gorge\, Canada
X-APPLE-STRUCTURED-LOCATION;VALUE=URI;X-ADDRESS=3366 Whittier Ave\, Victori
 a\, BC\, V8Z 3P9\, Burnside Gorge\, Canada;X-APPLE-RADIUS=100;X-TITLE=Rudd
  Park:geo:0,0
END:VEVENT
BEGIN:VTIMEZONE
TZID:America/Vancouver
X-LIC-LOCATION:America/Vancouver
BEGIN:DAYLIGHT
DTSTART:20260308T030000
TZOFFSETFROM:-0800
TZOFFSETTO:-0700
TZNAME:PDT
END:DAYLIGHT
END:VTIMEZONE
END:VCALENDAR